BEGIN:VCALENDAR
VERSION:2.0
PRODID:-//eventon.com NONSGML v1.0//EN
CALSCALE:GREGORIAN
METHOD:PUBLISH
BEGIN:VEVENT
UID:69e7531fd9977
DTSTAMP:20260421T103615Z
DTSTART:20260127T130000Z
DTEND:20260127T190000Z
LOCATION:THE CIVIC CENTRE Ozumba Mbadiwe Road\,  Opposite 1004\,  Victoria Island\,  Lagos 100001\,  Nigeria
SUMMARY:Lagos
DESCRIPTION:Gambero Rosso live in Lagos &nbsp; For the first time Gambero R
 osso lands in Nigeria with a unique tasting of premium Italian wines. The T
 op Italian Wines Roadshow takes off in Lagos. The event is scheduled for Tu
 esday\,  January 27. &nbsp; Special guest: CONSORZIO VINO CHIANTI &nbsp; DO
 WNLOAD INVITATION DOWNLOAD[..]\nhttps://www.gamberorossointernational.com/t
 ours/lagos-2026-01-27/
URL:https://www.gamberorossointernational.com/tours/lagos-2026-01-27/
END:VEVENT
END:VCALENDAR