BEGIN:VCALENDAR
VERSION:2.0
PRODID:-//eventon.com NONSGML v1.0//EN
CALSCALE:GREGORIAN
METHOD:PUBLISH
BEGIN:VEVENT
UID:69ec0daacb3ce
DTSTAMP:20260425T004114Z
DTSTART:20251024
DTEND:20251025
LOCATION:Ristorante Da Carlo Effingerstrasse 14\,  3011 Bern\,  Svizzera
SUMMARY:Bern - Ristorante Da Carlo
DESCRIPTION:Vom 24. Oktober bis zum 7. November bietet das Restaurant Da Ca
 rlo in Bern seinen Gästen ein spezielles Menü "Cheers and Cheese to EU" m
 it Gerichten auf der Basis von Grana Padano g.U.\,  begleitet von Prosecco
  DOC-Weinen. Kontakte: +41 31 381 18 18 kontakt@da-carlo.ch &nbsp; DOWNLOAD
  THE MENU / MENÜ HERUNTERLADEN[..]\nhttps://www.gamberorossointernational.
 com/tours/bern-da-carlo/
URL:https://www.gamberorossointernational.com/tours/bern-da-carlo/
END:VEVENT
END:VCALENDAR