BEGIN:VCALENDAR
VERSION:2.0
PRODID:-//eventon.com NONSGML v1.0//EN
CALSCALE:GREGORIAN
METHOD:PUBLISH
BEGIN:VEVENT
UID:69ec249c4707f
DTSTAMP:20260425T021908Z
DTSTART:20251027
DTEND:20251028
LOCATION:Osteria San Gallo Schwertgasse 1\,  9000 St. Gallen\,  Svizzera
SUMMARY:St. Gallen - Osteria San Gallo
DESCRIPTION:Vom 27. Oktober bis zum 10. November bietet das Restaurant Oste
 ria San Gallo in St. Gallen seinen Gästen das Spezialmenü "Cheers and Che
 ese to EU" mit Gerichten auf Basis von Grana Padano g.U.\,  begleitet von 
 Prosecco DOC-Weinen. Kontakte: +41 71 232 70 78 mail@osteriasangallo.ch &nb
 sp; DOWNLOAD THE MENU / MENÜ HERUNTERLADEN[..]\nhttps://www.gamberorossoin
 ternational.com/tours/stgallen-osteria-san-gallo/
URL:https://www.gamberorossointernational.com/tours/stgallen-osteria-san-gallo/
END:VEVENT
END:VCALENDAR