BEGIN:VCALENDAR
VERSION:2.0
PRODID:-//eventon.com NONSGML v1.0//EN
CALSCALE:GREGORIAN
METHOD:PUBLISH
BEGIN:VEVENT
UID:69ec103076e80
DTSTAMP:20260425T005200Z
DTSTART:20251020
DTEND:20251021
LOCATION:Positano Stampfenbachstrasse 6\,  8001 Zürich\,  Svizzera
SUMMARY:Zürich - Positano
DESCRIPTION:Vom 20. Oktober bis zum 3. November bietet das Restaurant Posit
 ano in Zürich seinen Gästen das Spezialmenü "Cheers and Cheese to EU" mi
 t Gerichten auf Basis von Grana Padano g.U.\,  begleitet von Prosecco DOC-
 Weinen. Kontakte: +41 43 243 76 10 info@positano.ch &nbsp; DOWNLOAD THE MEN
 U / MENÜ HERUNTERLADEN &nbsp;\nhttps://www.gamberorossointernational.com/t
 ours/zurich-positano/
URL:https://www.gamberorossointernational.com/tours/zurich-positano/
END:VEVENT
END:VCALENDAR