BEGIN:VCALENDAR
VERSION:2.0
PRODID:-//eventon.com NONSGML v1.0//EN
CALSCALE:GREGORIAN
METHOD:PUBLISH
BEGIN:VEVENT
UID:69ec0f107e1be
DTSTAMP:20260425T004712Z
DTSTART:20251103
DTEND:20251104
LOCATION:RISTORANTE ITALIA Spitalstrasse 24/26 CH - 2502 Biel/Bienne
SUMMARY:Biel/Bienne - Ristorante Italia
DESCRIPTION:Du 3 au 16 novembre\,  le Restaurant Italia de Biel/Bienne prop
 ose à ses clients le menu spécial "Cheers and Cheese to EU" avec des plat
 s à base de Grana Padano AOP accompagnés de vins Prosecco DOC. Contacts:
  +41 (0)32 331 33 33 info@ristoranteitalia-biel.ch &nbsp; DOWNLOAD THE MENU
  / TÉLÉCHARGER LE MENU[..]\nhttps://www.gamberorossointernational.com/tou
 rs/biel-bienne-ristorante-italia/
URL:https://www.gamberorossointernational.com/tours/biel-bienne-ristorante-italia/
END:VEVENT
END:VCALENDAR