BEGIN:VCALENDAR
VERSION:2.0
PRODID:-//eventon.com NONSGML v1.0//EN
CALSCALE:GREGORIAN
METHOD:PUBLISH
BEGIN:VEVENT
UID:69e6b45a1e14b
DTSTAMP:20260420T231850Z
DTSTART:20250212T220000Z
DTEND:20250213T040000Z
LOCATION:VINEXPO PARIS
SUMMARY:Paris
DESCRIPTION:Tre Bicchieri live in Paris &nbsp; Gambero Rosso is bringing th
 e flagship Tre Bicchieri event to Paris for the third time. Thanks to the p
 recious cooperation with the Vinexpo\,  the best Italian wineries awarded i
 n Vini d’Italia 2025 guidebook will pour their top wines. &nbsp; SPECIAL 
 GUEST CONSORZIO OLIO DI[..]\nhttps://www.gamberorossointernational.com/tour
 s/paris-2025-02-12/
URL:https://www.gamberorossointernational.com/tours/paris-2025-02-12/
END:VEVENT
END:VCALENDAR