BEGIN:VCALENDAR
VERSION:2.0
PRODID:-//eventon.com NONSGML v1.0//EN
CALSCALE:GREGORIAN
METHOD:PUBLISH
BEGIN:VEVENT
UID:69e929c495568
DTSTAMP:20260422T200420Z
DTSTART:20220427T000000Z
DTEND:20220427T060000Z
LOCATION:MUSEO CASA DE LA BOLA Av. Parque Lira 136\,  Tacubaya\,  Miguel Hidalgo\,  11870 Ciudad de Mexico
SUMMARY:Mexico City
DESCRIPTION:Gambero Rosso\,  the leading Italian wine &amp; food media comp
 any\,  is ready to come back to Mexico City with a unique tasting of premiu
 m Italian wines. The event is scheduled on April 26 at the Museo Casa de la
  Bola. &nbsp; DOWNLOAD INVITATION &amp; PRESS RELEASE DOWNLOAD WINERIES LIS
 T\nhttps://www.gamberorossointernational.com/tours/mexico-city-04-26-2022/
URL:https://www.gamberorossointernational.com/tours/mexico-city-04-26-2022/
END:VEVENT
END:VCALENDAR